Package: VplotR Version: 1.18.0 Command: rm -rf VplotR.buildbin-libdir && mkdir VplotR.buildbin-libdir && /Users/biocbuild/BBS/utils/build-universal.sh VplotR_1.18.0.tar.gz /Library/Frameworks/R.framework/Resources/bin/R VplotR.buildbin-libdir StartedAt: 2025-04-22 01:15:01 -0400 (Tue, 22 Apr 2025) EndedAt: 2025-04-22 01:15:44 -0400 (Tue, 22 Apr 2025) EllapsedTime: 43.7 seconds RetCode: 0 Status: OK PackageFile: VplotR_1.18.0.tgz PackageFileSize: 5.279 <A href="http://en.wikipedia.org/wiki/MiB" target="_blank">MiB</A>