Package: Rvisdiff Version: 1.6.0 Maintainer: David Barrios MaintainerEmail: metal at usal.es git_url: https://git.bioconductor.org/packages/Rvisdiff git_branch: RELEASE_3_21 git_last_commit: 46b3bf7 git_last_commit_date: 2025-04-15 13:21:00 -0400 (Tue, 15 Apr 2025)