Package: DelayedRandomArray
Version: 1.16.0
Command: /home/biocbuild/R/R/bin/R CMD build --keep-empty-dirs --no-resave-data DelayedRandomArray
StartedAt: 2025-05-20 00:10:36 -0000 (Tue, 20 May 2025)
EndedAt: 2025-05-20 00:11:38 -0000 (Tue, 20 May 2025)
EllapsedTime: 62.0 seconds
RetCode: 0
Status: OK
PackageFile: DelayedRandomArray_1.16.0.tar.gz
PackageFileSize: 385.7 <A href="http://en.wikipedia.org/wiki/KiB" target="_blank">KiB</A>