Package: DelayedRandomArray
Version: 1.16.0
Maintainer: Aaron Lun
MaintainerEmail: infinite.monkeys.with.keyboards at gmail.com
git_url: https://git.bioconductor.org/packages/DelayedRandomArray
git_branch: RELEASE_3_21
git_last_commit: 7030e8b
git_last_commit_date: 2025-04-15 12:28:04 -0400 (Tue, 15 Apr 2025)