Package: DelayedDataFrame Version: 1.24.0 Command: /home/biocbuild/bbs-3.21-bioc/R/bin/R CMD INSTALL DelayedDataFrame StartedAt: 2025-04-30 15:24:11 -0400 (Wed, 30 Apr 2025) EndedAt: 2025-04-30 15:24:29 -0400 (Wed, 30 Apr 2025) EllapsedTime: 17.2 seconds RetCode: 0 Status: OK