Package: DelayedDataFrame Version: 1.24.0 Command: /home/biocbuild/bbs-3.21-bioc/R/bin/R CMD build --keep-empty-dirs --no-resave-data DelayedDataFrame StartedAt: 2025-04-30 16:57:18 -0400 (Wed, 30 Apr 2025) EndedAt: 2025-04-30 16:57:49 -0400 (Wed, 30 Apr 2025) EllapsedTime: 31.0 seconds RetCode: 0 Status: OK PackageFile: DelayedDataFrame_1.24.0.tar.gz PackageFileSize: 486.5 KiB