Package: multiWGCNAdata Version: 1.4.0 Command: /home/biocbuild/bbs-3.20-bioc/R/bin/R CMD INSTALL multiWGCNAdata StartedAt: 2025-04-01 10:57:28 -0400 (Tue, 01 Apr 2025) EndedAt: 2025-04-01 10:57:37 -0400 (Tue, 01 Apr 2025) EllapsedTime: 8.8 seconds RetCode: 0 Status: OK