Package: ffpeExampleData Version: 1.44.0 Command: /home/biocbuild/bbs-3.20-bioc/R/bin/R CMD INSTALL ffpeExampleData StartedAt: 2025-04-01 11:03:54 -0400 (Tue, 01 Apr 2025) EndedAt: 2025-04-01 11:04:23 -0400 (Tue, 01 Apr 2025) EllapsedTime: 29.5 seconds RetCode: 0 Status: OK