Package: ffpeExampleData
Version: 1.44.0
Command: /home/biocbuild/bbs-3.20-bioc/R/bin/R CMD build --keep-empty-dirs --no-resave-data ffpeExampleData
StartedAt: 2025-04-01 11:15:08 -0400 (Tue, 01 Apr 2025)
EndedAt: 2025-04-01 11:15:09 -0400 (Tue, 01 Apr 2025)
EllapsedTime: 1.0 seconds
RetCode: 0
Status: OK
PackageFile: ffpeExampleData_1.44.0.tar.gz
PackageFileSize: 6.727 <A href="http://en.wikipedia.org/wiki/MiB" target="_blank">MiB</A>