Package: curatedAdipoArray
Version: 1.18.0
Command: /home/biocbuild/bbs-3.20-bioc/R/bin/R CMD build --keep-empty-dirs --no-resave-data curatedAdipoArray
StartedAt: 2025-04-01 11:09:53 -0400 (Tue, 01 Apr 2025)
EndedAt: 2025-04-01 11:10:09 -0400 (Tue, 01 Apr 2025)
EllapsedTime: 16.0 seconds
RetCode: 0
Status: OK
PackageFile: curatedAdipoArray_1.18.0.tar.gz
PackageFileSize: 36.25 <A href="http://en.wikipedia.org/wiki/KiB" target="_blank">KiB</A>