Package: SubcellularSpatialData Version: 1.2.0 Command: /home/biocbuild/bbs-3.20-bioc/R/bin/R CMD INSTALL SubcellularSpatialData StartedAt: 2025-04-01 11:03:07 -0400 (Tue, 01 Apr 2025) EndedAt: 2025-04-01 11:03:09 -0400 (Tue, 01 Apr 2025) EllapsedTime: 2.0 seconds RetCode: 0 Status: OK