Package: RegParallel
Version: 1.24.0
Command: /home/biocbuild/bbs-3.20-bioc/R/bin/R CMD build --keep-empty-dirs --no-resave-data RegParallel
StartedAt: 2025-04-01 11:32:04 -0400 (Tue, 01 Apr 2025)
EndedAt: 2025-04-01 11:32:54 -0400 (Tue, 01 Apr 2025)
EllapsedTime: 50.6 seconds
RetCode: 1
Status: ERROR
PackageFile: None
PackageFileSize: NA