Package: PathNetData Version: 1.42.0 Command: /home/biocbuild/bbs-3.20-bioc/R/bin/R CMD build --keep-empty-dirs --no-resave-data PathNetData StartedAt: 2025-04-01 11:30:13 -0400 (Tue, 01 Apr 2025) EndedAt: 2025-04-01 11:30:15 -0400 (Tue, 01 Apr 2025) EllapsedTime: 2.3 seconds RetCode: 0 Status: OK PackageFile: PathNetData_1.42.0.tar.gz PackageFileSize: 2.427 <A href="http://en.wikipedia.org/wiki/MiB" target="_blank">MiB</A>