Package: CopyhelpeR
Version: 1.38.0
Command: /home/biocbuild/bbs-3.20-bioc/R/bin/R CMD INSTALL CopyhelpeR
StartedAt: 2025-04-01 10:55:14 -0400 (Tue, 01 Apr 2025)
EndedAt: 2025-04-01 10:55:15 -0400 (Tue, 01 Apr 2025)
EllapsedTime: 1.2 seconds
RetCode: 0
Status: OK