Package: cadd.v1.6.hg19
Version: 3.18.1
Command: /home/biocbuild/bbs-3.20-bioc/R/bin/R CMD build --keep-empty-dirs --no-resave-data cadd.v1.6.hg19
StartedAt: 2025-04-02 06:31:10 -0400 (Wed, 02 Apr 2025)
EndedAt: 2025-04-02 06:31:59 -0400 (Wed, 02 Apr 2025)
EllapsedTime: 48.9 seconds
RetCode: 0
Status: OK
PackageFile: cadd.v1.6.hg19_3.18.1.tar.gz
PackageFileSize: 299.6 <A href="http://en.wikipedia.org/wiki/KiB" target="_blank">KiB</A>