Package: cadd.v1.6.hg19
Version: 3.18.1
Maintainer: Robert Castelo
MaintainerEmail: robert.castelo at upf.edu
git_url: https://git.bioconductor.org/packages/cadd.v1.6.hg19
git_branch: RELEASE_3_20
git_last_commit: 343a071
git_last_commit_date: 2023-10-19 13:25:08 -0400 (Thu, 19 Oct 2023)