Package: diffcyt
Version: 1.26.1
Command: /Library/Frameworks/R.framework/Resources/bin/R CMD build --keep-empty-dirs --no-resave-data diffcyt
StartedAt: 2025-03-31 22:31:35 -0400 (Mon, 31 Mar 2025)
EndedAt: 2025-03-31 22:33:40 -0400 (Mon, 31 Mar 2025)
EllapsedTime: 125.3 seconds
RetCode: 0
Status: OK
PackageFile: diffcyt_1.26.1.tar.gz
PackageFileSize: 856 <A href="http://en.wikipedia.org/wiki/KiB" target="_blank">KiB</A>