Package: SQLDataFrame
Version: 1.20.0
Command: /home/biocbuild/bbs-3.20-bioc/R/bin/R CMD build --keep-empty-dirs --no-resave-data SQLDataFrame
StartedAt: 2024-11-19 22:03:26 -0500 (Tue, 19 Nov 2024)
EndedAt: 2024-11-19 22:03:50 -0500 (Tue, 19 Nov 2024)
EllapsedTime: 24.3 seconds
RetCode: 0
Status: OK
PackageFile: SQLDataFrame_1.20.0.tar.gz
PackageFileSize: 235 <A href="http://en.wikipedia.org/wiki/KiB" target="_blank">KiB</A>