Package: DelayedRandomArray
Version: 1.14.0
Maintainer: Aaron Lun
MaintainerEmail: infinite.monkeys.with.keyboards at gmail.com
git_url: https://git.bioconductor.org/packages/DelayedRandomArray
git_branch: RELEASE_3_20
git_last_commit: a2f1a94
git_last_commit_date: 2024-10-29 10:58:56 -0400 (Tue, 29 Oct 2024)