Package: csawUsersGuide
Version: 1.20.0
Command: /home/biocbuild/bbs-3.19-bioc/R/bin/R CMD INSTALL csawUsersGuide
StartedAt: 2024-10-18 13:00:11 -0400 (Fri, 18 Oct 2024)
EndedAt: 2024-10-18 13:00:15 -0400 (Fri, 18 Oct 2024)
EllapsedTime: 4.0 seconds
RetCode: 0
Status: OK