Package: plotgardenerData
Version: 1.10.0
Maintainer: Nicole Kramer
MaintainerEmail: nekramer at live.unc.edu
git_url: https://git.bioconductor.org/packages/plotgardenerData
git_branch: RELEASE_3_19
git_last_commit: bfe3fad
git_last_commit_date: 2024-04-30 11:09:39 -0400 (Tue, 30 Apr 2024)