Package: frmaExampleData
Version: 1.40.0
Maintainer: Matthew N. McCall
MaintainerEmail: mmccall at jhsph.edu
git_url: https://git.bioconductor.org/packages/frmaExampleData
git_branch: RELEASE_3_19
git_last_commit: ef0fece
git_last_commit_date: 2024-04-30 10:29:16 -0400 (Tue, 30 Apr 2024)