Package: benchmarkfdrData2019
Version: 1.18.0
Maintainer: Stephanie Hicks
MaintainerEmail: shicks19 at jhu.edu
git_url: https://git.bioconductor.org/packages/benchmarkfdrData2019
git_branch: RELEASE_3_19
git_last_commit: f92de04
git_last_commit_date: 2024-04-30 10:51:43 -0400 (Tue, 30 Apr 2024)