Package: SimBenchData
Version: 1.12.0
Maintainer: Yue Cao
MaintainerEmail: ycao6928 at uni.sydney.edu.au
git_url: https://git.bioconductor.org/packages/SimBenchData
git_branch: RELEASE_3_19
git_last_commit: cbe7045
git_last_commit_date: 2024-04-30 11:08:26 -0400 (Tue, 30 Apr 2024)