##############################################################################
##############################################################################
###
### Running command:
###
###   /home/biocbuild/bbs-3.19-bioc/R/bin/R CMD build --keep-empty-dirs --no-resave-data RcisTarget.hg19.motifDBs.cisbpOnly.500bp
###
##############################################################################
##############################################################################


* checking for file ‘RcisTarget.hg19.motifDBs.cisbpOnly.500bp/DESCRIPTION’ ... OK
* preparing ‘RcisTarget.hg19.motifDBs.cisbpOnly.500bp’:
* checking DESCRIPTION meta-information ... OK
* checking for LF line-endings in source and make files and shell scripts
* checking for empty or unneeded directories
* looking to see if a ‘data/datalist’ file should be added
* building ‘RcisTarget.hg19.motifDBs.cisbpOnly.500bp_1.24.0.tar.gz’