Package: RTCGA.CNV
Version: 1.32.0
Maintainer: Marcin Kosinski
MaintainerEmail: m.p.kosinski at gmail.com
git_url: https://git.bioconductor.org/packages/RTCGA.CNV
git_branch: RELEASE_3_19
git_last_commit: 0a5a0a6
git_last_commit_date: 2024-04-30 10:45:56 -0400 (Tue, 30 Apr 2024)