Package: structToolbox Version: 1.16.0 Command: /Library/Frameworks/R.framework/Resources/bin/R CMD INSTALL structToolbox StartedAt: 2024-10-16 15:19:55 -0400 (Wed, 16 Oct 2024) EndedAt: 2024-10-16 15:21:20 -0400 (Wed, 16 Oct 2024) EllapsedTime: 84.3 seconds RetCode: 0 Status: OK