Package: nipalsMCIA
Version: 1.2.0
Command: rm -rf nipalsMCIA.buildbin-libdir && mkdir nipalsMCIA.buildbin-libdir && /Users/biocbuild/BBS/utils/build-universal.sh nipalsMCIA_1.2.0.tar.gz /Library/Frameworks/R.framework/Resources/bin/R nipalsMCIA.buildbin-libdir
StartedAt: 2024-06-11 12:20:19 -0400 (Tue, 11 Jun 2024)
EndedAt: 2024-06-11 12:21:09 -0400 (Tue, 11 Jun 2024)
EllapsedTime: 49.6 seconds
RetCode: 0
Status: OK
PackageFile: nipalsMCIA_1.2.0.tgz
PackageFileSize: 4.361 <A href="http://en.wikipedia.org/wiki/MiB" target="_blank">MiB</A>