Package: diffGeneAnalysis
Version: 1.86.0
Command: /Library/Frameworks/R.framework/Resources/bin/R CMD INSTALL diffGeneAnalysis
StartedAt: 2024-10-16 15:41:30 -0400 (Wed, 16 Oct 2024)
EndedAt: 2024-10-16 15:41:33 -0400 (Wed, 16 Oct 2024)
EllapsedTime: 2.7 seconds
RetCode: 0
Status: OK