Package: Rvisdiff
Version: 1.2.0
Maintainer: David Barrios
MaintainerEmail: metal at usal.es
git_url: https://git.bioconductor.org/packages/Rvisdiff
git_branch: RELEASE_3_19
git_last_commit: 27cbd1c
git_last_commit_date: 2024-04-30 11:51:29 -0400 (Tue, 30 Apr 2024)