Package: Modstrings
Version: 1.20.0
Command: rm -rf Modstrings.buildbin-libdir && mkdir Modstrings.buildbin-libdir && /Users/biocbuild/BBS/utils/build-universal.sh Modstrings_1.20.0.tar.gz /Library/Frameworks/R.framework/Resources/bin/R Modstrings.buildbin-libdir
StartedAt: 2024-06-10 00:27:48 -0400 (Mon, 10 Jun 2024)
EndedAt: 2024-06-10 00:28:15 -0400 (Mon, 10 Jun 2024)
EllapsedTime: 27.2 seconds
RetCode: 0
Status: OK
PackageFile: Modstrings_1.20.0.tgz
PackageFileSize: 1.348 <A href="http://en.wikipedia.org/wiki/MiB" target="_blank">MiB</A>