Package: Modstrings
Version: 1.20.0
Command: /home/biocbuild/R/R-beta-2024-04-15_r86425/bin/R CMD INSTALL Modstrings
StartedAt: 2024-05-08 20:16:13 -0000 (Wed, 08 May 2024)
EndedAt: 2024-05-08 20:16:38 -0000 (Wed, 08 May 2024)
EllapsedTime: 24.9 seconds
RetCode: 0
Status: OK