Package: DelayedRandomArray
Version: 1.12.0
Command: /Library/Frameworks/R.framework/Resources/bin/R CMD build --keep-empty-dirs --no-resave-data DelayedRandomArray
StartedAt: 2024-10-16 23:00:55 -0400 (Wed, 16 Oct 2024)
EndedAt: 2024-10-16 23:01:40 -0400 (Wed, 16 Oct 2024)
EllapsedTime: 44.7 seconds
RetCode: 0
Status: OK
PackageFile: DelayedRandomArray_1.12.0.tar.gz
PackageFileSize: 318.3 <A href="http://en.wikipedia.org/wiki/KiB" target="_blank">KiB</A>