Package: spatialLIBD
Version: 1.14.1
Command: /home/biocbuild/bbs-3.18-bioc/R/bin/R CMD check --install=check:spatialLIBD.install-out.txt --library=/home/biocbuild/bbs-3.18-bioc/R/site-library --timings spatialLIBD_1.14.1.tar.gz
StartedAt: 2024-04-16 12:22:50 -0400 (Tue, 16 Apr 2024)
EndedAt: 2024-04-16 12:45:43 -0400 (Tue, 16 Apr 2024)
EllapsedTime: 1372.5 seconds
RetCode: 0
Status: OK
CheckDir: spatialLIBD.Rcheck
Warnings: 0