Package: spatialDmelxsim
Version: 1.8.0
Maintainer: Michael Love
MaintainerEmail: michaelisaiahlove at gmail.com
git_url: https://git.bioconductor.org/packages/spatialDmelxsim
git_branch: RELEASE_3_18
git_last_commit: 13717a1
git_last_commit_date: 2023-10-24 09:22:47 -0400 (Tue, 24 Oct 2023)