Package: pasilla
Version: 1.30.0
Command: /home/biocbuild/bbs-3.18-bioc/R/bin/R CMD INSTALL pasilla
StartedAt: 2024-04-16 10:09:04 -0400 (Tue, 16 Apr 2024)
EndedAt: 2024-04-16 10:09:36 -0400 (Tue, 16 Apr 2024)
EllapsedTime: 31.4 seconds
RetCode: 0
Status: OK