Package: benchmarkfdrData2019
Version: 1.16.0
Command: /home/biocbuild/bbs-3.18-bioc/R/bin/R CMD build --keep-empty-dirs --no-resave-data benchmarkfdrData2019
StartedAt: 2024-04-16 10:15:02 -0400 (Tue, 16 Apr 2024)
EndedAt: 2024-04-16 10:16:28 -0400 (Tue, 16 Apr 2024)
EllapsedTime: 86.1 seconds
RetCode: 0
Status: OK
PackageFile: benchmarkfdrData2019_1.16.0.tar.gz
PackageFileSize: 790.5 <A href="http://en.wikipedia.org/wiki/KiB" target="_blank">KiB</A>