Package: VariantToolsData
Version: 1.26.0
Maintainer: Michael Lawrence
MaintainerEmail: michafla at gene.com
git_url: https://git.bioconductor.org/packages/VariantToolsData
git_branch: RELEASE_3_18
git_last_commit: 946f731
git_last_commit_date: 2023-10-24 09:16:30 -0400 (Tue, 24 Oct 2023)