Package: TimerQuant
Version: 1.32.0
Maintainer: Joseph Barry
MaintainerEmail: joseph.barry at embl.de
git_url: https://git.bioconductor.org/packages/TimerQuant
git_branch: RELEASE_3_18
git_last_commit: ab5a87f
git_last_commit_date: 2023-10-24 09:11:17 -0400 (Tue, 24 Oct 2023)