Package: TCGAcrcmiRNA
Version: 1.22.0
Command: /home/biocbuild/bbs-3.18-bioc/R/bin/R CMD INSTALL TCGAcrcmiRNA
StartedAt: 2024-04-16 10:01:29 -0400 (Tue, 16 Apr 2024)
EndedAt: 2024-04-16 10:01:32 -0400 (Tue, 16 Apr 2024)
EllapsedTime: 2.7 seconds
RetCode: 0
Status: OK