Package: SimBenchData
Version: 1.10.0
Command: /home/biocbuild/bbs-3.18-bioc/R/bin/R CMD INSTALL SimBenchData
StartedAt: 2024-04-16 10:05:17 -0400 (Tue, 16 Apr 2024)
EndedAt: 2024-04-16 10:05:32 -0400 (Tue, 16 Apr 2024)
EllapsedTime: 15.4 seconds
RetCode: 0
Status: OK