Package: STexampleData
Version: 1.10.1
Command: /home/biocbuild/bbs-3.18-bioc/R/bin/R CMD INSTALL STexampleData
StartedAt: 2024-04-16 10:07:01 -0400 (Tue, 16 Apr 2024)
EndedAt: 2024-04-16 10:07:35 -0400 (Tue, 16 Apr 2024)
EllapsedTime: 33.5 seconds
RetCode: 0
Status: OK