Package: QDNAseq.hg19 Version: 1.32.0 Command: /home/biocbuild/bbs-3.18-bioc/R/bin/R CMD INSTALL QDNAseq.hg19 StartedAt: 2024-04-16 10:11:11 -0400 (Tue, 16 Apr 2024) EndedAt: 2024-04-16 10:11:24 -0400 (Tue, 16 Apr 2024) EllapsedTime: 13.2 seconds RetCode: 0 Status: OK