Package: MouseGastrulationData
Version: 1.16.0
Command: /home/biocbuild/bbs-3.18-bioc/R/bin/R CMD INSTALL MouseGastrulationData
StartedAt: 2024-04-16 10:12:28 -0400 (Tue, 16 Apr 2024)
EndedAt: 2024-04-16 10:12:59 -0400 (Tue, 16 Apr 2024)
EllapsedTime: 31.3 seconds
RetCode: 0
Status: OK