Package: HiCDataHumanIMR90
Version: 1.22.0
Maintainer: Nicolas Servant
MaintainerEmail: Nicolas.Servant at curie.fr
git_url: https://git.bioconductor.org/packages/HiCDataHumanIMR90
git_branch: RELEASE_3_18
git_last_commit: 594e14e
git_last_commit_date: 2023-10-24 09:08:43 -0400 (Tue, 24 Oct 2023)