Package: DNAZooData
Version: 1.2.0
Command: /home/biocbuild/bbs-3.18-bioc/R/bin/R CMD INSTALL DNAZooData
StartedAt: 2024-04-16 10:08:00 -0400 (Tue, 16 Apr 2024)
EndedAt: 2024-04-16 10:08:25 -0400 (Tue, 16 Apr 2024)
EllapsedTime: 24.9 seconds
RetCode: 0
Status: OK