Package: CopyNeutralIMA
Version: 1.20.0
Command: /home/biocbuild/bbs-3.18-bioc/R/bin/R CMD build --keep-empty-dirs --no-resave-data CopyNeutralIMA
StartedAt: 2024-04-16 10:20:30 -0400 (Tue, 16 Apr 2024)
EndedAt: 2024-04-16 10:23:53 -0400 (Tue, 16 Apr 2024)
EllapsedTime: 202.7 seconds
RetCode: 0
Status: OK
PackageFile: CopyNeutralIMA_1.20.0.tar.gz
PackageFileSize: 547.7 <A href="http://en.wikipedia.org/wiki/KiB" target="_blank">KiB</A>