Package: CellMapperData
Version: 1.28.0
Command: /home/biocbuild/bbs-3.18-bioc/R/bin/R CMD INSTALL CellMapperData
StartedAt: 2024-04-16 10:05:14 -0400 (Tue, 16 Apr 2024)
EndedAt: 2024-04-16 10:05:24 -0400 (Tue, 16 Apr 2024)
EllapsedTime: 10.5 seconds
RetCode: 0
Status: OK