Package: COSMIC.67
Version: 1.38.0
Command: /home/biocbuild/bbs-3.18-bioc/R/bin/R CMD INSTALL COSMIC.67
StartedAt: 2024-04-16 10:12:59 -0400 (Tue, 16 Apr 2024)
EndedAt: 2024-04-16 10:13:39 -0400 (Tue, 16 Apr 2024)
EllapsedTime: 39.3 seconds
RetCode: 0
Status: OK