Package: microRNA
Version: 1.60.0
Command: /home/hpages/bbs-3.18-bioc-R41/R/bin/R CMD build --keep-empty-dirs --no-resave-data microRNA
StartedAt: 2024-03-08 15:47:11 -0500 (Fri, 08 Mar 2024)
EndedAt: 2024-03-08 15:47:16 -0500 (Fri, 08 Mar 2024)
EllapsedTime: 4.3 seconds
RetCode: 0
Status: OK
PackageFile: microRNA_1.60.0.tar.gz
PackageFileSize: 5.743 <A href="http://en.wikipedia.org/wiki/MiB" target="_blank">MiB</A>